BEGIN:VCALENDAR
VERSION:2.0
PRODID:-//ChamberMaster//Event Calendar 2.0//EN
METHOD:PUBLISH
X-PUBLISHED-TTL:P3D
REFRESH-INTERVAL:P3D
CALSCALE:GREGORIAN
BEGIN:VEVENT
DTSTART:20260219T220000Z
DTEND:20260220T000000Z
X-MICROSOFT-CDO-ALLDAYEVENT:FALSE
SUMMARY:Networking Night
DESCRIPTION:Join us for our February Networking Night at the Chamber office! This casual\, after-hours gathering is a great opportunity to connect with fellow Chamber members\, grow relationships\, and catch up on what's happening in our local business community.
X-ALT-DESC;FMTTYPE=text/html:Join us for our <strong>February Networking Night</strong> at the Chamber office! This casual\, after-hours gathering is a great opportunity to connect with fellow Chamber members\, grow relationships\, and catch up on what&rsquo\;s happening in our local business community.
LOCATION:Chamber Office 189 Main St. Suite 401 Oneonta\, NY
UID:e.2635.1149
SEQUENCE:3
DTSTAMP:20260423T191849Z
URL:http://otsegoccny.chambermaster.com/events/details/networking-night-1149
END:VEVENT

END:VCALENDAR
